BEGIN:VCALENDAR
VERSION:2.0
PRODID:-//Theodore Roosevelt School - ECPv6.15.20//NONSGML v1.0//EN
CALSCALE:GREGORIAN
METHOD:PUBLISH
X-WR-CALNAME:Theodore Roosevelt School
X-ORIGINAL-URL:https://trswarriors.com
X-WR-CALDESC:Events for Theodore Roosevelt School
REFRESH-INTERVAL;VALUE=DURATION:PT1H
X-Robots-Tag:noindex
X-PUBLISHED-TTL:PT1H
BEGIN:VTIMEZONE
TZID:America/Phoenix
BEGIN:STANDARD
TZOFFSETFROM:-0700
TZOFFSETTO:-0700
TZNAME:MST
DTSTART:20250101T000000
END:STANDARD
END:VTIMEZONE
BEGIN:VEVENT
DTSTART;TZID=America/Phoenix:20260116T130000
DTEND;TZID=America/Phoenix:20260116T160000
DTSTAMP:20260421T051408
CREATED:20250827T165539Z
LAST-MODIFIED:20251114T140022Z
UID:10001105-1768568400-1768579200@trswarriors.com
SUMMARY:TRS @ Alpine (Basketball)
DESCRIPTION:
URL:https://trswarriors.com/event/trs-alpine-basketball/
LOCATION:Alpine Elementary School District\, 101 Co Rd 2311\, Alpine\, AZ\, United States
GEO:33.83189;-109.141375
X-APPLE-STRUCTURED-LOCATION;VALUE=URI;X-ADDRESS=Alpine Elementary School District 101 Co Rd 2311 Alpine AZ United States;X-APPLE-RADIUS=500;X-TITLE=101 Co Rd 2311:geo:-109.141375,33.83189
END:VEVENT
END:VCALENDAR