BEGIN:VCALENDAR
VERSION:2.0
PRODID:-//Theodore Roosevelt School - ECPv6.15.20//NONSGML v1.0//EN
CALSCALE:GREGORIAN
METHOD:PUBLISH
X-ORIGINAL-URL:https://trswarriors.com
X-WR-CALDESC:Events for Theodore Roosevelt School
REFRESH-INTERVAL;VALUE=DURATION:PT1H
X-Robots-Tag:noindex
X-PUBLISHED-TTL:PT1H
BEGIN:VTIMEZONE
TZID:America/Phoenix
BEGIN:STANDARD
TZOFFSETFROM:-0700
TZOFFSETTO:-0700
TZNAME:MST
DTSTART:20250101T000000
END:STANDARD
END:VTIMEZONE
BEGIN:VEVENT
DTSTART;TZID=America/Phoenix:20260424T130000
DTEND;TZID=America/Phoenix:20260424T160000
DTSTAMP:20260419T051002
CREATED:20250827T165554Z
LAST-MODIFIED:20260409T185728Z
UID:10001222-1777035600-1777046400@trswarriors.com
SUMMARY:Rim Rider League Tournament (Softball / Track)
DESCRIPTION:
URL:https://trswarriors.com/event/rim-rider-league-tournament-softball-track/
LOCATION:Alpine Elementary School District\, 101 Co Rd 2311\, Alpine\, AZ\, United States
GEO:33.83189;-109.141375
X-APPLE-STRUCTURED-LOCATION;VALUE=URI;X-ADDRESS=Alpine Elementary School District 101 Co Rd 2311 Alpine AZ United States;X-APPLE-RADIUS=500;X-TITLE=101 Co Rd 2311:geo:-109.141375,33.83189
END:VEVENT
END:VCALENDAR