BEGIN:VCALENDAR
VERSION:2.0
PRODID:-//Theodore Roosevelt School - ECPv6.15.20//NONSGML v1.0//EN
CALSCALE:GREGORIAN
METHOD:PUBLISH
X-ORIGINAL-URL:https://trswarriors.com
X-WR-CALDESC:Events for Theodore Roosevelt School
REFRESH-INTERVAL;VALUE=DURATION:PT1H
X-Robots-Tag:noindex
X-PUBLISHED-TTL:PT1H
BEGIN:VTIMEZONE
TZID:America/Phoenix
BEGIN:STANDARD
TZOFFSETFROM:-0700
TZOFFSETTO:-0700
TZNAME:MST
DTSTART:20240101T000000
END:STANDARD
END:VTIMEZONE
BEGIN:VEVENT
DTSTART;VALUE=DATE:20251027
DTEND;VALUE=DATE:20251029
DTSTAMP:20260419T171134
CREATED:20250827T165525Z
LAST-MODIFIED:20251005T205805Z
UID:10001021-1761523200-1761695999@trswarriors.com
SUMMARY:Navajo IMPACT Institute
DESCRIPTION:
URL:https://trswarriors.com/event/navajo-impact-institute/
LOCATION:Courtyard Page at Lake Powell\, 602 Clubhouse Dr\, Page\, AZ\, United States
GEO:36.925114;-111.467779
X-APPLE-STRUCTURED-LOCATION;VALUE=URI;X-ADDRESS=Courtyard Page at Lake Powell 602 Clubhouse Dr Page AZ United States;X-APPLE-RADIUS=500;X-TITLE=602 Clubhouse Dr:geo:-111.467779,36.925114
END:VEVENT
END:VCALENDAR