BEGIN:VCALENDAR
VERSION:2.0
PRODID:-//Theodore Roosevelt School - ECPv6.15.20//NONSGML v1.0//EN
CALSCALE:GREGORIAN
METHOD:PUBLISH
X-WR-CALNAME:Theodore Roosevelt School
X-ORIGINAL-URL:https://trswarriors.com
X-WR-CALDESC:Events for Theodore Roosevelt School
REFRESH-INTERVAL;VALUE=DURATION:PT1H
X-Robots-Tag:noindex
X-PUBLISHED-TTL:PT1H
BEGIN:VTIMEZONE
TZID:America/Phoenix
BEGIN:STANDARD
TZOFFSETFROM:-0700
TZOFFSETTO:-0700
TZNAME:MST
DTSTART:20240101T000000
END:STANDARD
END:VTIMEZONE
BEGIN:VEVENT
DTSTART;TZID=America/Phoenix:20250813T110000
DTEND;TZID=America/Phoenix:20250813T123000
DTSTAMP:20260419T045557
CREATED:20250827T170740Z
LAST-MODIFIED:20250827T170740Z
UID:10001433-1755082800-1755088200@trswarriors.com
SUMMARY:EASIE FY25 New PD and AOR Webinar
DESCRIPTION:JOIN WEBEX WEBINARhttps://aemcorp.webex.com/aemcorp/j.php?MTID=mc017344fbd6918eecba4715a4419e471Webinar number (access code): 2530 171 3974 Webinar password: UErmJAva353 (83765282 when dialing from a phone or video system)   \nTAP TO JOIN FROM A MOBILE DEVICE (ATTENDEES ONLY)1-844-621-3956\,\,25301713974#83765282# tel:1-844-621-3956\,\,*01*25301713974%2383765282%23*01* United States Toll Free+1-650-479-3208\,\,25301713974#83765282# tel:%2B1-650-479-3208\,\,*01*25301713974%2383765282%23*01* United States TollSome mobile devices may ask attendees to enter a numeric password. \nJOIN BY PHONE1-844-621-3956 United States Toll Free+1-650-479-3208 United States Toll \nGlobal call-in numbershttps://aemcorp.webex.com/aemcorp/globalcallin.php?MTID=m7506d84b791d23bd55f13bd280b38dc8 \nCan’t join the webinar?https://collaborationhelp.cisco.com/article/WBX000029055 \nIMPORTANT NOTICE: Please note that this Webex service allows audio and other information sent during the session to be recorded\, which may be discoverable in a legal matter. By joining this session\, you automatically consent to such recordings. If you do not consent to being recorded\, discuss your concerns with the host or do not join the session.
URL:https://trswarriors.com/event/easie-fy25-new-pd-and-aor-webinar/
LOCATION:https://aemcorp.webex.com/aemcorp/j.php?MTID=mc017344fbd6918eecba4715a4419e471
END:VEVENT
END:VCALENDAR